BEGIN:VCALENDAR
VERSION:2.0
PRODID:-//FLOURISH St. Louis - ECPv5.14.0.4//NONSGML v1.0//EN
CALSCALE:GREGORIAN
METHOD:PUBLISH
X-WR-CALNAME:FLOURISH St. Louis
X-ORIGINAL-URL:https://flourish.tpidev7.com
X-WR-CALDESC:Events for FLOURISH St. Louis
BEGIN:VTIMEZONE
TZID:America/Chicago
BEGIN:DAYLIGHT
TZOFFSETFROM:-0600
TZOFFSETTO:-0500
TZNAME:CDT
DTSTART:20190310T080000
END:DAYLIGHT
BEGIN:STANDARD
TZOFFSETFROM:-0500
TZOFFSETTO:-0600
TZNAME:CST
DTSTART:20191103T070000
END:STANDARD
END:VTIMEZONE
BEGIN:VEVENT
DTSTART;TZID=America/Chicago:20191211T110000
DTEND;TZID=America/Chicago:20191211T123000
DTSTAMP:20260421T113556
CREATED:20191204T212253Z
LAST-MODIFIED:20191205T172421Z
UID:4230-1576062000-1576067400@flourish.tpidev7.com
SUMMARY:Aligned Activities Funding Information Session
DESCRIPTION:This information session is for organizations that are interested in applying for the FLOURISH Aligned Activities for Priority Areas grant opportunity. FLOURISH funding opportunities are made possible through the partnership between Generate Health and the Missouri Foundation for Health (MFH). During the session\, attendees will learn about Generate Health\, FLOURISH and its funding opportunities\, the Aligned Activities that have been elevated by the FLOURISH Community Leaders Cabinet\, and application requirements. \nWe strongly encourage all applicants and potential applicants for the Aligned Activities for Priority Areas grant to attend if possible. For those unable to attend\, information on the grant opportunity can be found on our Aligned Activities funding page.
URL:https://flourish.tpidev7.com/event/aligned-activities-funding-information-session/
LOCATION:Generate Health\, 1300 Hampton Ave\, Ste 111\, St. Louis \, 63139\, United States
END:VEVENT
END:VCALENDAR