BEGIN:VCALENDAR
VERSION:2.0
PRODID:-//FLOURISH St. Louis - ECPv5.14.0.4//NONSGML v1.0//EN
CALSCALE:GREGORIAN
METHOD:PUBLISH
X-WR-CALNAME:FLOURISH St. Louis
X-ORIGINAL-URL:https://flourish.tpidev7.com
X-WR-CALDESC:Events for FLOURISH St. Louis
BEGIN:VTIMEZONE
TZID:America/Chicago
BEGIN:DAYLIGHT
TZOFFSETFROM:-0600
TZOFFSETTO:-0500
TZNAME:CDT
DTSTART:20200308T080000
END:DAYLIGHT
BEGIN:STANDARD
TZOFFSETFROM:-0500
TZOFFSETTO:-0600
TZNAME:CST
DTSTART:20201101T070000
END:STANDARD
END:VTIMEZONE
BEGIN:VEVENT
DTSTART;TZID=America/Chicago:20200523T140000
DTEND;TZID=America/Chicago:20200523T151500
DTSTAMP:20260420T230256
CREATED:20200511T210414Z
LAST-MODIFIED:20200511T210414Z
UID:4505-1590242400-1590246900@flourish.tpidev7.com
SUMMARY:FLOURISH Information & Grant Writing Workshop Session Two
DESCRIPTION:FLOURISH is committed to ensuring that all community members have the tools and resources to develop a proposal for the Community Mobilization & Innovation Funds RFP. This funding bucket is reserved for community groups to implement new and existing community engagement efforts that promote maternal and infant vitality\, provide social support and healing\, and/or build community in priority zip codes where infant mortality is at its worst. The next deadline has been pushed back to June 12th. \nFLOURISH is offering an information session and grant writing workshop webinar for this grant opportunity so that we can make everything clear to the applicant. This webinar will be an opportunity for us walk them through the journey of applying and submitting. The grant writing workshop piece will be provided by our partner Monique Norfolk of Mosaic Beginnings. Mosaic Beginnings is set up to provide technical assistance to applicants after the webinar to walk them through the entire grant writing process. The webinars will take place through Zoom and Facebook Live. \nPLEASE REGISTER THROUGH EVENTBRITE.
URL:https://flourish.tpidev7.com/event/flourish-information-grant-writing-workshop-session-two/
LOCATION:Online
END:VEVENT
END:VCALENDAR