BEGIN:VCALENDAR
VERSION:2.0
PRODID:-//FLOURISH St. Louis - ECPv5.14.0.4//NONSGML v1.0//EN
CALSCALE:GREGORIAN
METHOD:PUBLISH
X-WR-CALNAME:FLOURISH St. Louis
X-ORIGINAL-URL:https://flourish.tpidev7.com
X-WR-CALDESC:Events for FLOURISH St. Louis
BEGIN:VTIMEZONE
TZID:UTC
BEGIN:STANDARD
TZOFFSETFROM:+0000
TZOFFSETTO:+0000
TZNAME:UTC
DTSTART:20160101T000000
END:STANDARD
END:VTIMEZONE
BEGIN:VEVENT
DTSTART;TZID=UTC:20161208T150000
DTEND;TZID=UTC:20161208T170000
DTSTAMP:20260420T133530
CREATED:20160104T221714Z
LAST-MODIFIED:20180801T193957Z
UID:3022-1481209200-1481216400@flourish.tpidev7.com
SUMMARY:FLOURISH St. Louis Cabinet Meeting
DESCRIPTION:
URL:https://flourish.tpidev7.com/event/flourish-st-louis-cabinet-meeting-11/
LOCATION:Generate Health\, 1300 Hampton Ave\, Ste 111\, St. Louis \, 63139\, United States
END:VEVENT
END:VCALENDAR