BEGIN:VCALENDAR
VERSION:2.0
PRODID:-//FLOURISH St. Louis - ECPv5.14.0.4//NONSGML v1.0//EN
CALSCALE:GREGORIAN
METHOD:PUBLISH
X-WR-CALNAME:FLOURISH St. Louis
X-ORIGINAL-URL:https://flourish.tpidev7.com
X-WR-CALDESC:Events for FLOURISH St. Louis
BEGIN:VTIMEZONE
TZID:America/Chicago
BEGIN:DAYLIGHT
TZOFFSETFROM:-0600
TZOFFSETTO:-0500
TZNAME:CDT
DTSTART:20200308T080000
END:DAYLIGHT
BEGIN:STANDARD
TZOFFSETFROM:-0500
TZOFFSETTO:-0600
TZNAME:CST
DTSTART:20201101T070000
END:STANDARD
END:VTIMEZONE
BEGIN:VEVENT
DTSTART;TZID=America/Chicago:20200715T090000
DTEND;TZID=America/Chicago:20200715T113000
DTSTAMP:20260420T212504
CREATED:20200708T182659Z
LAST-MODIFIED:20200708T183320Z
UID:4580-1594803600-1594812600@flourish.tpidev7.com
SUMMARY:Home Visiting Collaborative Provider Virtual Convening #3
DESCRIPTION:Join us for the home visiting collaborative provider convening #3.
URL:https://flourish.tpidev7.com/event/home-visiting-collaborative-provider-virtual-convening-3/
LOCATION:Online
END:VEVENT
END:VCALENDAR