BEGIN:VCALENDAR
VERSION:2.0
PRODID:-//FLOURISH St. Louis - ECPv5.14.0.4//NONSGML v1.0//EN
CALSCALE:GREGORIAN
METHOD:PUBLISH
X-WR-CALNAME:FLOURISH St. Louis
X-ORIGINAL-URL:https://flourish.tpidev7.com
X-WR-CALDESC:Events for FLOURISH St. Louis
BEGIN:VTIMEZONE
TZID:America/Chicago
BEGIN:DAYLIGHT
TZOFFSETFROM:-0600
TZOFFSETTO:-0500
TZNAME:CDT
DTSTART:20190310T080000
END:DAYLIGHT
BEGIN:STANDARD
TZOFFSETFROM:-0500
TZOFFSETTO:-0600
TZNAME:CST
DTSTART:20191103T070000
END:STANDARD
END:VTIMEZONE
BEGIN:VEVENT
DTSTART;TZID=America/Chicago:20190604T090000
DTEND;TZID=America/Chicago:20190604T103000
DTSTAMP:20260421T215433
CREATED:20190208T210859Z
LAST-MODIFIED:20190208T211414Z
UID:3687-1559638800-1559644200@flourish.tpidev7.com
SUMMARY:Impact & Improvement Team Meeting
DESCRIPTION:
URL:https://flourish.tpidev7.com/event/impact-improvement-team-meeting-4/
END:VEVENT
END:VCALENDAR