BEGIN:VCALENDAR
VERSION:2.0
PRODID:-//FLOURISH St. Louis - ECPv5.14.0.4//NONSGML v1.0//EN
CALSCALE:GREGORIAN
METHOD:PUBLISH
X-WR-CALNAME:FLOURISH St. Louis
X-ORIGINAL-URL:https://flourish.tpidev7.com
X-WR-CALDESC:Events for FLOURISH St. Louis
BEGIN:VTIMEZONE
TZID:UTC
BEGIN:STANDARD
TZOFFSETFROM:+0000
TZOFFSETTO:+0000
TZNAME:UTC
DTSTART:20170101T000000
END:STANDARD
END:VTIMEZONE
BEGIN:VEVENT
DTSTART;TZID=UTC:20170210T083000
DTEND;TZID=UTC:20170210T130000
DTSTAMP:20260420T114714
CREATED:20170201T034506Z
LAST-MODIFIED:20170201T034506Z
UID:1748-1486715400-1486731600@flourish.tpidev7.com
SUMMARY:Letters of Love writing event at the Microsoft Store
DESCRIPTION:Help us reach our goal of 90 more letters of love by Valentine’s day at a letters of love writing event. Join us at the Microsoft Store in the St. Louis Galleria on Friday\, Feb. 10 from 8:30am-10:30am and 11:30am-1:00pm. \nIf you can’t make it\, submit a letter online or host your own letters of love writing event.
URL:https://flourish.tpidev7.com/event/letters-of-love-writing-event-at-the-microsoft-store/
LOCATION:The Microsoft Store\, 1155 St. Louis Galleria \, St. Louis\, MO\, 63117\, United States
END:VEVENT
END:VCALENDAR