BEGIN:VCALENDAR
VERSION:2.0
PRODID:-//FLOURISH St. Louis - ECPv5.14.0.4//NONSGML v1.0//EN
CALSCALE:GREGORIAN
METHOD:PUBLISH
X-WR-CALNAME:FLOURISH St. Louis
X-ORIGINAL-URL:https://flourish.tpidev7.com
X-WR-CALDESC:Events for FLOURISH St. Louis
BEGIN:VTIMEZONE
TZID:America/Chicago
BEGIN:DAYLIGHT
TZOFFSETFROM:-0600
TZOFFSETTO:-0500
TZNAME:CDT
DTSTART:20190310T080000
END:DAYLIGHT
BEGIN:STANDARD
TZOFFSETFROM:-0500
TZOFFSETTO:-0600
TZNAME:CST
DTSTART:20191103T070000
END:STANDARD
END:VTIMEZONE
BEGIN:VEVENT
DTSTART;TZID=America/Chicago:20191115T093000
DTEND;TZID=America/Chicago:20191115T140000
DTSTAMP:20260421T130233
CREATED:20191021T181301Z
LAST-MODIFIED:20191115T152943Z
UID:4156-1573810200-1573826400@flourish.tpidev7.com
SUMMARY:Safe Sleep Summit
DESCRIPTION:FLOURISH’s free safe sleep summit educates advocacy groups\, service providers and community members on best safe sleep practices for infants. Keynote speaker Dr. Rachel Moon\, a SIDS research investigator from the University of Virginia Health System\, will address behavioral risk factors affecting sleep-related infant deaths. Register below for this free event.
URL:https://flourish.tpidev7.com/event/safe-sleep-summit-2/
LOCATION:Missouri Foundation for Health\, 4254 Vista Ave\, St. Louis\, MO\, 63110\, United States
END:VEVENT
END:VCALENDAR