BEGIN:VCALENDAR
VERSION:2.0
PRODID:-//FLOURISH St. Louis - ECPv5.14.0.4//NONSGML v1.0//EN
CALSCALE:GREGORIAN
METHOD:PUBLISH
X-WR-CALNAME:FLOURISH St. Louis
X-ORIGINAL-URL:https://flourish.tpidev7.com
X-WR-CALDESC:Events for FLOURISH St. Louis
BEGIN:VTIMEZONE
TZID:America/Chicago
BEGIN:DAYLIGHT
TZOFFSETFROM:-0600
TZOFFSETTO:-0500
TZNAME:CDT
DTSTART:20200308T080000
END:DAYLIGHT
BEGIN:STANDARD
TZOFFSETFROM:-0500
TZOFFSETTO:-0600
TZNAME:CST
DTSTART:20201101T070000
END:STANDARD
END:VTIMEZONE
BEGIN:VEVENT
DTSTART;TZID=America/Chicago:20201002T090000
DTEND;TZID=America/Chicago:20201002T110000
DTSTAMP:20260420T175546
CREATED:20200930T212451Z
LAST-MODIFIED:20200930T212451Z
UID:4632-1601629200-1601636400@flourish.tpidev7.com
SUMMARY:Safe Sleep: Train the Trainer – Oct. 2
DESCRIPTION:Infant Health Action Team presents Safe Sleep: Train the Trainer on Friday\, October 2\, 2020\, from 9am-11am virtually. \nTo join\, please register using the form below:
URL:https://flourish.tpidev7.com/event/safe-sleep-train-the-trainer-oct-2/
LOCATION:Online
END:VEVENT
END:VCALENDAR